BEGIN:VCALENDAR
VERSION:2.0
PRODID:-//Hildebrand Amusement Rides - ECPv6.15.20//NONSGML v1.0//EN
CALSCALE:GREGORIAN
METHOD:PUBLISH
X-ORIGINAL-URL:https://hildebrandamusementrides.com
X-WR-CALDESC:Events for Hildebrand Amusement Rides
REFRESH-INTERVAL;VALUE=DURATION:PT1H
X-Robots-Tag:noindex
X-PUBLISHED-TTL:PT1H
BEGIN:VTIMEZONE
TZID:America/New_York
BEGIN:DAYLIGHT
TZOFFSETFROM:-0500
TZOFFSETTO:-0400
TZNAME:EDT
DTSTART:20230312T070000
END:DAYLIGHT
BEGIN:STANDARD
TZOFFSETFROM:-0400
TZOFFSETTO:-0500
TZNAME:EST
DTSTART:20231105T060000
END:STANDARD
BEGIN:DAYLIGHT
TZOFFSETFROM:-0500
TZOFFSETTO:-0400
TZNAME:EDT
DTSTART:20240310T070000
END:DAYLIGHT
BEGIN:STANDARD
TZOFFSETFROM:-0400
TZOFFSETTO:-0500
TZNAME:EST
DTSTART:20241103T060000
END:STANDARD
BEGIN:DAYLIGHT
TZOFFSETFROM:-0500
TZOFFSETTO:-0400
TZNAME:EDT
DTSTART:20250309T070000
END:DAYLIGHT
BEGIN:STANDARD
TZOFFSETFROM:-0400
TZOFFSETTO:-0500
TZNAME:EST
DTSTART:20251102T060000
END:STANDARD
END:VTIMEZONE
BEGIN:VEVENT
DTSTART;VALUE=DATE:20240103
DTEND;VALUE=DATE:20240115
DTSTAMP:20260421T142635
CREATED:20231219T183629Z
LAST-MODIFIED:20240101T185609Z
UID:1229-1704240000-1705276799@hildebrandamusementrides.com
SUMMARY:Holiday Carnival at Ives Estates Park
DESCRIPTION:Jan 3 to 14\, Ives Estates Park 20901 NE 16th Ave\, Miami
URL:https://hildebrandamusementrides.com/event/holiday-carnival-ives-estates-park/
LOCATION:Ives Estates Park\, 20901 NE 16th Ave\, Miami\, FL\, 33179\, United States
CATEGORIES:Carnivals
END:VEVENT
BEGIN:VEVENT
DTSTART;TZID=America/New_York:20240118T080000
DTEND;TZID=America/New_York:20240121T170000
DTSTAMP:20260421T142635
CREATED:20231025T162827Z
LAST-MODIFIED:20231025T162827Z
UID:1163-1705564800-1705856400@hildebrandamusementrides.com
SUMMARY:St. Bernadette School and Church Festival
DESCRIPTION:
URL:https://hildebrandamusementrides.com/event/st-bernadette-school-and-church-festival/
LOCATION:St. Bernadette School and Church\, 7450 Stirling Rd\, Hollywood\, FL 33024\, Hollywood\, FL\, 33024\, United States
CATEGORIES:Carnivals
END:VEVENT
END:VCALENDAR