BEGIN:VCALENDAR
VERSION:2.0
PRODID:-//Hildebrand Amusement Rides - ECPv6.15.20//NONSGML v1.0//EN
CALSCALE:GREGORIAN
METHOD:PUBLISH
X-WR-CALNAME:Hildebrand Amusement Rides
X-ORIGINAL-URL:https://hildebrandamusementrides.com
X-WR-CALDESC:Events for Hildebrand Amusement Rides
REFRESH-INTERVAL;VALUE=DURATION:PT1H
X-Robots-Tag:noindex
X-PUBLISHED-TTL:PT1H
BEGIN:VTIMEZONE
TZID:America/New_York
BEGIN:DAYLIGHT
TZOFFSETFROM:-0500
TZOFFSETTO:-0400
TZNAME:EDT
DTSTART:20220313T070000
END:DAYLIGHT
BEGIN:STANDARD
TZOFFSETFROM:-0400
TZOFFSETTO:-0500
TZNAME:EST
DTSTART:20221106T060000
END:STANDARD
BEGIN:DAYLIGHT
TZOFFSETFROM:-0500
TZOFFSETTO:-0400
TZNAME:EDT
DTSTART:20230312T070000
END:DAYLIGHT
BEGIN:STANDARD
TZOFFSETFROM:-0400
TZOFFSETTO:-0500
TZNAME:EST
DTSTART:20231105T060000
END:STANDARD
BEGIN:DAYLIGHT
TZOFFSETFROM:-0500
TZOFFSETTO:-0400
TZNAME:EDT
DTSTART:20240310T070000
END:DAYLIGHT
BEGIN:STANDARD
TZOFFSETFROM:-0400
TZOFFSETTO:-0500
TZNAME:EST
DTSTART:20241103T060000
END:STANDARD
END:VTIMEZONE
BEGIN:VEVENT
DTSTART;VALUE=DATE:20230120
DTEND;VALUE=DATE:20230130
DTSTAMP:20260422T103746
CREATED:20230116T185229Z
LAST-MODIFIED:20230116T185406Z
UID:895-1674172800-1675036799@hildebrandamusementrides.com
SUMMARY:Okeechobee American Legion Carnival
DESCRIPTION:501 SE 2nd St\, Okeechobee
URL:https://hildebrandamusementrides.com/event/okeechobee-american-legion-carnival-2/
LOCATION:American Legion Hall – Okeechobee\, 501 SE 2nd St\, Okeechobee\, FL\, 34974\, United States
CATEGORIES:Carnivals
END:VEVENT
END:VCALENDAR