BEGIN:VCALENDAR
VERSION:2.0
PRODID:-//Hildebrand Amusement Rides - ECPv6.15.20//NONSGML v1.0//EN
CALSCALE:GREGORIAN
METHOD:PUBLISH
X-ORIGINAL-URL:https://hildebrandamusementrides.com
X-WR-CALDESC:Events for Hildebrand Amusement Rides
REFRESH-INTERVAL;VALUE=DURATION:PT1H
X-Robots-Tag:noindex
X-PUBLISHED-TTL:PT1H
BEGIN:VTIMEZONE
TZID:America/New_York
BEGIN:DAYLIGHT
TZOFFSETFROM:-0500
TZOFFSETTO:-0400
TZNAME:EDT
DTSTART:20200308T070000
END:DAYLIGHT
BEGIN:STANDARD
TZOFFSETFROM:-0400
TZOFFSETTO:-0500
TZNAME:EST
DTSTART:20201101T060000
END:STANDARD
BEGIN:DAYLIGHT
TZOFFSETFROM:-0500
TZOFFSETTO:-0400
TZNAME:EDT
DTSTART:20210314T070000
END:DAYLIGHT
BEGIN:STANDARD
TZOFFSETFROM:-0400
TZOFFSETTO:-0500
TZNAME:EST
DTSTART:20211107T060000
END:STANDARD
BEGIN:DAYLIGHT
TZOFFSETFROM:-0500
TZOFFSETTO:-0400
TZNAME:EDT
DTSTART:20220313T070000
END:DAYLIGHT
BEGIN:STANDARD
TZOFFSETFROM:-0400
TZOFFSETTO:-0500
TZNAME:EST
DTSTART:20221106T060000
END:STANDARD
END:VTIMEZONE
BEGIN:VEVENT
DTSTART;VALUE=DATE:20210716
DTEND;VALUE=DATE:20210802
DTSTAMP:20260423T175312
CREATED:20210714T003233Z
LAST-MODIFIED:20210719T232453Z
UID:685-1626393600-1627862399@hildebrandamusementrides.com
SUMMARY:The Carnival at Wolfchase Galleria
DESCRIPTION:
URL:https://hildebrandamusementrides.com/event/the-carnival-at-wolfchase-galleria/
LOCATION:Wolfchase Galleria\, 2760 N Germantown Pkwy\,\, Memphis\, TN\, 38133\, United States
CATEGORIES:Carnivals
END:VEVENT
BEGIN:VEVENT
DTSTART;VALUE=DATE:20210806
DTEND;VALUE=DATE:20210809
DTSTAMP:20260423T175312
CREATED:20210805T183818Z
LAST-MODIFIED:20210820T192841Z
UID:693-1628208000-1628467199@hildebrandamusementrides.com
SUMMARY:Back to School Rodeo and Carnival\, Gleason TN
DESCRIPTION:
URL:https://hildebrandamusementrides.com/event/back-to-school-rodeo-and-carnival/
LOCATION:Gleason TN\, 200 Bell St.\, Gleason\, TN\, 38229\, United States
CATEGORIES:Carnivals
END:VEVENT
BEGIN:VEVENT
DTSTART;VALUE=DATE:20210827
DTEND;VALUE=DATE:20210907
DTSTAMP:20260423T175312
CREATED:20210820T192156Z
LAST-MODIFIED:20210820T192156Z
UID:712-1630022400-1630972799@hildebrandamusementrides.com
SUMMARY:RiverGate Mall Carnival
DESCRIPTION:RiverGate Mall Carnival
URL:https://hildebrandamusementrides.com/event/rivergate-mall-carnival/
LOCATION:RiverGate Mall\, Goodlettsville\, TN\, United States
CATEGORIES:Carnivals
END:VEVENT
END:VCALENDAR