BEGIN:VCALENDAR
VERSION:2.0
PRODID:-//Hildebrand Amusement Rides - ECPv6.15.20//NONSGML v1.0//EN
CALSCALE:GREGORIAN
METHOD:PUBLISH
X-ORIGINAL-URL:https://hildebrandamusementrides.com
X-WR-CALDESC:Events for Hildebrand Amusement Rides
REFRESH-INTERVAL;VALUE=DURATION:PT1H
X-Robots-Tag:noindex
X-PUBLISHED-TTL:PT1H
BEGIN:VTIMEZONE
TZID:America/New_York
BEGIN:DAYLIGHT
TZOFFSETFROM:-0500
TZOFFSETTO:-0400
TZNAME:EDT
DTSTART:20200308T070000
END:DAYLIGHT
BEGIN:STANDARD
TZOFFSETFROM:-0400
TZOFFSETTO:-0500
TZNAME:EST
DTSTART:20201101T060000
END:STANDARD
BEGIN:DAYLIGHT
TZOFFSETFROM:-0500
TZOFFSETTO:-0400
TZNAME:EDT
DTSTART:20210314T070000
END:DAYLIGHT
BEGIN:STANDARD
TZOFFSETFROM:-0400
TZOFFSETTO:-0500
TZNAME:EST
DTSTART:20211107T060000
END:STANDARD
BEGIN:DAYLIGHT
TZOFFSETFROM:-0500
TZOFFSETTO:-0400
TZNAME:EDT
DTSTART:20220313T070000
END:DAYLIGHT
BEGIN:STANDARD
TZOFFSETFROM:-0400
TZOFFSETTO:-0500
TZNAME:EST
DTSTART:20221106T060000
END:STANDARD
END:VTIMEZONE
BEGIN:VEVENT
DTSTART;VALUE=DATE:20210625
DTEND;VALUE=DATE:20210712
DTSTAMP:20260423T193950
CREATED:20210629T014109Z
LAST-MODIFIED:20210629T014215Z
UID:677-1624579200-1626047999@hildebrandamusementrides.com
SUMMARY:Memphis CCMI Youth Fair
DESCRIPTION:
URL:https://hildebrandamusementrides.com/event/memphis-ccmi-youth-fair/
LOCATION:Memphis CCMI Youth Fair\, 3744 Ridgeway Road\, Memphis\, 38115\, United States
CATEGORIES:Carnivals
END:VEVENT
BEGIN:VEVENT
DTSTART;VALUE=DATE:20210716
DTEND;VALUE=DATE:20210802
DTSTAMP:20260423T193950
CREATED:20210714T003233Z
LAST-MODIFIED:20210719T232453Z
UID:685-1626393600-1627862399@hildebrandamusementrides.com
SUMMARY:The Carnival at Wolfchase Galleria
DESCRIPTION:
URL:https://hildebrandamusementrides.com/event/the-carnival-at-wolfchase-galleria/
LOCATION:Wolfchase Galleria\, 2760 N Germantown Pkwy\,\, Memphis\, TN\, 38133\, United States
CATEGORIES:Carnivals
END:VEVENT
END:VCALENDAR